Workbook

Sheet Figure 1
A1: Historical electricity generation data (TWh)
A3: Fuel | B3: 2000 | C3: 2001 | D3: 2002 | E3: 2003 | F3: 2004 | G3: 2005 | H3: 2006 | I3: 2007 | J3: 2008 | K3: 2009 | L3: 2010 | M3: 2011 | N3: 2012 | O3: 2013 | P3: 2014 | Q3: 2015 | R3: 2016 | S3: 2017 | T3: 2018 | U3: 2019 | V3: 2020
A4: Biomass and waste | B4: 1 | C4: 2 | D4: 2 | E4: 2 | F4: 2 | G4: 2 | H4: 2 | I4: 2 | J4: 10 | K4: 12 | L4: 15 | M4: 18 | N4: 21 | O4: 23 | P4: 26 | Q4: 17 | R4: 16 | S4: 13 | T4: 16 | U4: 15 | V4: 14
A5: Coal | B5: 350 | C5: 366 | D5: 382 | E5: 396 | F5: 415 | G5: 429 | H5: 456 | I5: 469 | J5: 494 | K5: 534 | L5: 550 | M5: 598 | N5: 676 | O5: 731 | P5: 824 | Q5: 872 | R5: 936 | S5: 973 | T5: 1025 | U5: 999 | V5: 948
A6: Gas | B6: 43 | C6: 45 | D6: 45 | E6: 50 | F6: 58 | G6: 61 | H6: 61 | I6: 67 | J6: 73 | K6: 90 | L6: 102 | M6: 97 | N6: 75 | O6: 46 | P6: 43 | Q6: 41 | R6: 50 | S6: 50 | T6: 50 | U6: 48 | V6: 52
A7: Hydro | B7: 74 | C7: 73 | D7: 68 | E7: 80 | F7: 90 | G7: 97 | H7: 112 | I7: 122 | J7: 115 | K7: 106 | L7: 111 | M7: 132 | N7: 116 | O7: 132 | P7: 130 | Q7: 132 | R7: 129 | S7: 136 | T7: 141 | U7: 162 | V7: 164
A8: Nuclear | B8: 14 | C8: 18 | D8: 18 | E8: 16 | F8: 15 | G8: 18 | H8: 18 | I8: 18 | J8: 15 | K8: 17 | L8: 23 | M8: 32 | N8: 33 | O8: 33 | P8: 35 | Q8: 38 | R8: 38 | S8: 38 | T8: 38 | U8: 45 | V8: 45
A9: Other fossil | B9: 3 | C9: 2 | D9: 2 | E9: 3 | F9: 2 | G9: 2 | H9: 2 | I9: 3 | J9: 5 | K9: 4 | L9: 3 | M9: 2 | N9: 2 | O9: 2 | P9: 2 | Q9: 0 | R9: 0 | S9: 0 | T9: 0 | U9: 0 | V9: 0
A10: Other renewables | B10: 0 | C10: 0 | D10: 0 | E10: 0 | F10: 0 | G10: 0 | H10: 0 | I10: 0 | J10: 0 | K10: 0 | L10: 0 | M10: 0 | N10: 0 | O10: 0 | P10: 0 | Q10: 0 | R10: 0 | S10: 0 | T10: 0 | U10: 0 | V10: 1
A11: Solar | B11: 0 | C11: 0 | D11: 0 | E11: 0 | F11: 0 | G11: 0 | H11: 0 | I11: 0 | J11: 0 | K11: 0 | L11: 0 | M11: 1 | N11: 2 | O11: 4 | P11: 6 | Q11: 7 | R11: 12 | S11: 22 | T11: 36 | U11: 46 | V11: 58
A12: Wind | B12: 2 | C12: 2 | D12: 3 | E12: 4 | F12: 4 | G12: 7 | H12: 9 | I12: 12 | J12: 14 | K12: 18 | L12: 20 | M12: 25 | N12: 30 | O12: 33 | P12: 37 | Q12: 33 | R12: 43 | S12: 53 | T12: 60 | U12: 63 | V12: 60
A13: Total | B13: 486 | C13: 508 | D13: 520 | E13: 551 | F13: 587 | G13: 615 | H13: 660 | I13: 694 | J13: 725 | K13: 781 | L13: 824 | M13: 904 | N13: 955 | O13: 1005 | P13: 1103 | Q13: 1140 | R13: 1224 | S13: 1286 | T13: 1368 | U13: 1378 | V13: =sum(V4:V12) -> 1342
A15: Sources: | B15: https://npp.gov.in/monthlyGenerationReportsAct
B16: https://ember.shinyapps.io/GlobalElectricityDashboard/

Sheet Figure-2
A2: Year-on-year change in annual generation by source (TWh)
A3: Fuel | B3: 2011 | C3: 2012 | D3: 2013 | E3: 2014 | F3: 2015 | G3: 2016 | H3: 2017 | I3: 2018 | J3: 2019 | K3: 2020
A4: Biomass and waste | B4: ='Figure 1'!M4-'Figure 1'!L4 -> 3 | C4: ='Figure 1'!N4-'Figure 1'!M4 -> 3 | D4: ='Figure 1'!O4-'Figure 1'!N4 -> 2 | E4: ='Figure 1'!P4-'Figure 1'!O4 -> 3 | F4: ='Figure 1'!Q4-'Figure 1'!P4 -> -9 | G4: ='Figure 1'!R4-'Figure 1'!Q4 -> -1 | H4: ='Figure 1'!S4-'Figure 1'!R4 -> -3 | I4: ='Figure 1'!T4-'Figure 1'!S4 -> 3 | ... K4: ='Figure 1'!V4-'Figure 1'!U4 -> -1
A5: Coal | B5: ='Figure 1'!M5-'Figure 1'!L5 -> 48 | C5: ='Figure 1'!N5-'Figure 1'!M5 -> 78 | D5: ='Figure 1'!O5-'Figure 1'!N5 -> 55 | E5: ='Figure 1'!P5-'Figure 1'!O5 -> 93 | F5: ='Figure 1'!Q5-'Figure 1'!P5 -> 48 | G5: ='Figure 1'!R5-'Figure 1'!Q5 -> 64 | H5: ='Figure 1'!S5-'Figure 1'!R5 -> 37 | I5: ='Figure 1'!T5-'Figure 1'!S5 -> 52 | ... K5: ='Figure 1'!V5-'Figure 1'!U5 -> -51
A6: Gas | B6: ='Figure 1'!M6-'Figure 1'!L6 -> -5 | C6: ='Figure 1'!N6-'Figure 1'!M6 -> -22 | D6: ='Figure 1'!O6-'Figure 1'!N6 -> -29 | E6: ='Figure 1'!P6-'Figure 1'!O6 -> -3 | F6: ='Figure 1'!Q6-'Figure 1'!P6 -> -2 | G6: ='Figure 1'!R6-'Figure 1'!Q6 -> 9 | H6: ='Figure 1'!S6-'Figure 1'!R6 -> 0 | I6: ='Figure 1'!T6-'Figure 1'!S6 -> 0 | ... K6: ='Figure 1'!V6-'Figure 1'!U6 -> 4
A7: Hydro | B7: ='Figure 1'!M7-'Figure 1'!L7 -> 21 | C7: ='Figure 1'!N7-'Figure 1'!M7 -> -16 | D7: ='Figure 1'!O7-'Figure 1'!N7 -> 16 | E7: ='Figure 1'!P7-'Figure 1'!O7 -> -2 | F7: ='Figure 1'!Q7-'Figure 1'!P7 -> 2 | G7: ='Figure 1'!R7-'Figure 1'!Q7 -> -3 | H7: ='Figure 1'!S7-'Figure 1'!R7 -> 7 | I7: ='Figure 1'!T7-'Figure 1'!S7 -> 5 | ... K7: ='Figure 1'!V7-'Figure 1'!U7 -> 2
A8: Nuclear | B8: ='Figure 1'!M8-'Figure 1'!L8 -> 9 | C8: ='Figure 1'!N8-'Figure 1'!M8 -> 1 | D8: ='Figure 1'!O8-'Figure 1'!N8 -> 0 | E8: ='Figure 1'!P8-'Figure 1'!O8 -> 2 | F8: ='Figure 1'!Q8-'Figure 1'!P8 -> 3 | G8: ='Figure 1'!R8-'Figure 1'!Q8 -> 0 | H8: ='Figure 1'!S8-'Figure 1'!R8 -> 0 | I8: ='Figure 1'!T8-'Figure 1'!S8 -> 0 | ... K8: ='Figure 1'!V8-'Figure 1'!U8 -> 0
A9: Other fossil | B9: ='Figure 1'!M9-'Figure 1'!L9 -> -1 | C9: ='Figure 1'!N9-'Figure 1'!M9 -> 0 | D9: ='Figure 1'!O9-'Figure 1'!N9 -> 0 | E9: ='Figure 1'!P9-'Figure 1'!O9 -> 0 | F9: ='Figure 1'!Q9-'Figure 1'!P9 -> -2 | G9: ='Figure 1'!R9-'Figure 1'!Q9 -> 0 | H9: ='Figure 1'!S9-'Figure 1'!R9 -> 0 | I9: ='Figure 1'!T9-'Figure 1'!S9 -> 0 | ... K9: ='Figure 1'!V9-'Figure 1'!U9 -> 0
A10: Other renewables | B10: ='Figure 1'!M10-'Figure 1'!L10 -> 0 | C10: ='Figure 1'!N10-'Figure 1'!M10 -> 0 | D10: ='Figure 1'!O10-'Figure 1'!N10 -> 0 | E10: ='Figure 1'!P10-'Figure 1'!O10 -> 0 | F10: ='Figure 1'!Q10-'Figure 1'!P10 -> 0 | G10: ='Figure 1'!R10-'Figure 1'!Q10 -> 0 | H10: ='Figure 1'!S10-'Figure 1'!R10 -> 0 | I10: ='Figure 1'!T10-'Figure 1'!S10 -> 0 | ... K10: ='Figure 1'!V10-'Figure 1'!U10 -> 1
A11: Solar | B11: ='Figure 1'!M11-'Figure 1'!L11 -> 1 | C11: ='Figure 1'!N11-'Figure 1'!M11 -> 1 | D11: ='Figure 1'!O11-'Figure 1'!N11 -> 2 | E11: ='Figure 1'!P11-'Figure 1'!O11 -> 2 | F11: ='Figure 1'!Q11-'Figure 1'!P11 -> 1 | G11: ='Figure 1'!R11-'Figure 1'!Q11 -> 5 | H11: ='Figure 1'!S11-'Figure 1'!R11 -> 10 | I11: ='Figure 1'!T11-'Figure 1'!S11 -> 14 | ... K11: ='Figure 1'!V11-'Figure 1'!U11 -> 12
A12: Wind | B12: ='Figure 1'!M12-'Figure 1'!L12 -> 5 | C12: ='Figure 1'!N12-'Figure 1'!M12 -> 5 | D12: ='Figure 1'!O12-'Figure 1'!N12 -> 3 | E12: ='Figure 1'!P12-'Figure 1'!O12 -> 4 | F12: ='Figure 1'!Q12-'Figure 1'!P12 -> -4 | G12: ='Figure 1'!R12-'Figure 1'!Q12 -> 10 | H12: ='Figure 1'!S12-'Figure 1'!R12 -> 10 | I12: ='Figure 1'!T12-'Figure 1'!S12 -> 7 | ... K12: ='Figure 1'!V12-'Figure 1'!U12 -> -3
A13: Change in demand | B13: ='Figure 1'!M13-'Figure 1'!L13 -> 80 | C13: ='Figure 1'!N13-'Figure 1'!M13 -> 51 | D13: ='Figure 1'!O13-'Figure 1'!N13 -> 50 | E13: ='Figure 1'!P13-'Figure 1'!O13 -> 98 | F13: ='Figure 1'!Q13-'Figure 1'!P13 -> 37 | G13: ='Figure 1'!R13-'Figure 1'!Q13 -> 84 | H13: ='Figure 1'!S13-'Figure 1'!R13 -> 62 | I13: ='Figure 1'!T13-'Figure 1'!S13 -> 82 | ... K13: ='Figure 1'!V13-'Figure 1'!U13 -> -36

Sheet Figure-3
B1: Changes in electricity generation, compared to 2018
B2: All figures in TWh
A4: Year | B4: Indian government forecasts - see rows 30-33 | F4: Adjusted for COVID-19 shock - see rows 35-40 | K4: IEA India Vision Case - see rows 30-33 | O4: IEA Sustainable Development Scenario - see rows 30-33
B5: Electricity Demand Growth | C5: Coal | D5: Wind and Solar | E5: Other (Gas, Hydro, Nuclear, Biomass) | F5: Electricity Demand Growth | G5: Coal | H5: Wind and Solar | I5: Other (Gas, Hydro, Nuclear, Biomass) | K5: Electricity Demand Growth | L5: Coal | M5: Wind and Solar | N5: Other (Gas, Hydro, Nuclear, Biomass) | O5: Electricity Demand Growth | P5: Coal | Q5: Wind and Solar | R5: Other (Gas, Hydro, Nuclear, Biomass)
A6: 2018 | B6: 0 | C6: 0 | D6: 0 | E6: 0 | F6: 0 | G6: 0 | H6: 0 | I6: 0 | K6: 0 | L6: 0 | M6: 0 | N6: 0 | O6: 0 | P6: 0 | Q6: 0 | R6: 0
A7: 2019 | B7: 12 | C7: -26 | D7: 13 | E7: 25 | F7: 12 | G7: -26 | H7: 13 | I7: 25 | K7: 12 | L7: -26 | M7: 13 | N7: 25 | O7: 12 | P7: -26 | Q7: 13 | R7: 25
A8: 2020 | B8: -24 | C8: -77 | D8: 22 | E8: 31 | F8: -24 | G8: -77 | H8: 22 | I8: 31 | K8: -24 | L8: -77 | M8: 22 | N8: 31 | O8: -24 | P8: -77 | Q8: 22 | R8: 31
A9: FY2021 - 22 | B9: 281 | C9: 47 | D9: 178 | E9: 56 | F9: 100 | G9: -134 | H9: 178 | I9: 56
A10: 2025 | O10: 250 | P10: -234 | Q10: 349 | R10: 135
A11: FY 2026 - 27 | B11: 660 | C11: 234 | D11: 335 | E11: 91 | F11: 437 | G11: 11 | H11: 335 | I11: 91
A12: FY 2029 - 30 | B12: 1152 | C12: 333 | D12: 697 | E12: 122 | F12: 875 | G12: 52 | H12: 697 | I12: 122
A13: 2030 | K13: 887 | L13: -80 | M13: 636 | N13: 331 | O13: 707 | P13: -416 | Q13: 790 | R13: 333
C16: CEA historical data | H16: NEP13 forecasts | J16: OGCM forecasts | L16: Recalibrated IEA forecasts
B17: Source | C17: 2016 | D17: 2017 | E17: 2018 | F17: 2019 | G17: 2020 | H17: 2021-22 | I17: 2026-27 | J17: Optimal 2018-19 | K17: Optimal 2029-30 | L17: SDS 2025 | M17: SDS 2030 | N17: IVC 2030
B18: Biomass and waste | C18: 16 | D18: 13 | E18: 16 | F18: 15 | G18: 14 | H18: 37 | I18: 63 | J18: 16 | K18: 7 | L18: 30.24 | M18: 37.8 | N18: 29.16
B19: Coal | C19: 936 | D19: 973 | E19: 1025 | F19: 999 | G19: 948 | H19: 1072 | I19: 1259 | J19: 1022 | K19: 1358 | L19: 791.2 | M19: 608.88 | N19: 945.14
B20: Gas | C20: 50 | D20: 50 | E20: 50 | F20: 48 | G20: 52 | H20: 48 | I20: 48 | J20: 50 | K20: 35 | L20: 93.1 | M20: 168 | N20: 216.3
B21: Hydro | C21: 129 | D21: 136 | E21: 141 | F21: 162 | G21: 164 | H21: 171 | I21: 180 | J21: 144 | K21: 207 | L21: 186.2 | M21: 245.1 | N21: 214.7
B22: Nuclear | C22: 38 | D22: 38 | E22: 38 | F22: 45 | G22: 45 | H22: 45 | I22: 45 | J22: 38 | K22: 113 | L22: 61 | M22: 107 | N22: 109
B23: Other fossil | C23: 0 | D23: 0 | E23: 0 | F23: 0 | G23: 0 | H23: 0 | I23: 0 | J23: 0 | K23: 0 | L23: 7 | M23: 7 | N23: 7
B24: Other renewables | C24: 0 | D24: 0 | E24: 0 | F24: 0 | G24: 1 | H24: 0 | I24: 0 | J24: 0 | K24: 5 | L24: 2 | M24: 13
B25: Solar | C25: 12 | D25: 22 | E25: 36 | F25: 46 | G25: 58 | H25: 162 | I25: 243 | J25: 39 | K25: 484 | L25: 259.47 | M25: 543.12 | N25: 480.81
B26: Wind | C26: 43 | D26: 53 | E26: 60 | F26: 63 | G26: 60 | H26: 112 | I26: 188 | J26: 62 | K26: 309 | L26: 186 | M26: 343 | N26: 251
B27: Total generation | C27: =sum(C18:C26) -> 1224 | D27: =sum(D18:D26) -> 1285 | E27: =sum(E18:E26) -> 1366 | F27: =sum(F18:F26) -> 1378 | G27: =sum(G18:G26) -> 1342 | H27: =sum(H18:H26) -> 1647 | I27: =sum(I18:I26) -> 2026 | J27: =sum(J18:J26) -> 1371 | ... N27: =sum(N18:N26) -> 2253.11
B29: Change vs 2018
B30: Demand vs 2018 | C30: =C27-1366 -> -142 | D30: =D27-1366 -> -81 | E30: =E27-1366 -> 0 | F30: =F27-1366 -> 12 | G30: =G27-1366 -> -24 | H30: =H27-1366 -> 281 | I30: =I27-1366 -> 660 | J30: =J27-1366 -> 5 | ... N30: =N27-1366 -> 887.11
B31: Wind+solar vs 2018 | C31: =C25+C26-96 -> -41 | D31: =D25+D26-96 -> -21 | E31: =E25+E26-96 -> 0 | F31: =F25+F26-96 -> 13 | G31: =G25+G26-96 -> 22 | H31: =H25+H26-96 -> 178 | I31: =I25+I26-96 -> 335 | J31: =J25+J26-96 -> 5 | ... N31: =N25+N26-96 -> 635.81
B32: Coal vs 2018 | C32: =C19-1025 -> -89 | D32: =D19-1025 -> -52 | E32: =E19-1025 -> 0 | F32: =F19-1025 -> -26 | G32: =G19-1025 -> -77 | H32: =H19-1025 -> 47 | I32: =I19-1025 -> 234 | J32: =J19-1025 -> -3 | ... N32: =N19-1025 -> -79.86
B33: Others vs 2018 | C33: =C30-C31-C32 -> -12 | D33: =D30-D31-D32 -> -8 | E33: =E30-E31-E32 -> 0 | F33: =F30-F31-F32 -> 25 | G33: =G30-G31-G32 -> 31 | H33: =H30-H31-H32 -> 56 | I33: =I30-I31-I32 -> 91 | J33: =J30-J31-J32 -> 3 | ... N33: =N30-N31-N32 -> 331.16
F35: COVID-19 demand shock adjusted forecasts | I35: Assuming 11% drop in projected electricity demand
F36: Total generation (adjusted) | H36: =(1-0.11)*H27 -> 1465.83 | I36: =(1-0.11)*I27 -> 1803.14 | J36: =(1-0.11)*J27 -> 1220.19 | K36: =(1-0.11)*K27 -> 2241.02
F37: Adjusted Demand vs 2018 | H37: =H36-1366 -> 99.83 | I37: =I36-1366 -> 437.14 | J37: =J36-1366 -> -145.81 | K37: =K36-1366 -> 875.02
F38: Wind+solar vs 2018 | H38: =H31 -> 178 | I38: =I31 -> 335 | J38: =J31 -> 5 | K38: 697
F39: Others vs 2018 | H39: =H33 -> 56 | I39: =I33 -> 91 | J39: =J33 -> 3 | K39: 122
F40: Coal vs 2018 | H40: =H37-H38-H39 -> -134.17 | I40: =I37-I38-I39 -> 11.14 | J40: =J37-J38-J39 -> -153.81 | K40: 52

Sheet Figure-4
A1: Wind and solar generation in TWh
A3: Year | B3: Type | C3: Wind (TWh) | D3: Solar (TWh)
A4: 2011 | B4: Historical CEA data | C4: 25 | D4: 1
A5: 2012 | B5: Historical CEA data | C5: 30 | D5: 2
A6: 2013 | B6: Historical CEA data | C6: 33 | D6: 4
A7: 2014 | B7: Historical CEA data | C7: 37 | D7: 6
A8: 2015 | B8: Historical CEA data | C8: 33 | D8: 7
A9: 2016 | B9: Historical CEA data | C9: 43 | D9: 12
A10: 2017 | B10: Historical CEA data | C10: 53 | D10: 22
A11: 2018 | B11: Historical CEA data | C11: 60 | D11: 36
A12: 2019 | B12: Historical CEA data | C12: 63 | D12: 46
A13: 2020 | B13: Historical CEA data | C13: 60 | D13: 58
A14: 2021-22* | B14: NEP13 forecasts | C14: 112 | D14: 162
A15: 2026-27* | B15: NEP13 forecasts | C15: 188 | D15: 243
A16: 2029-30* | B16: OGCM forecasts | C16: 309 | D16: 484
A19: Sources | B19: CEA's 13th Nation Electricity Plan
B20: CEA's 13th Optimal Generation Capacity Mix Report

Sheet Figure-5
B1: Changes in coal power capacity
B2: All values in GW
C4: Subcritical | D4: Supercritical | E4: Others | F4: Total | G4: Optimal Gen Mix projection
B5: Operational Aug 20 | C5: 138 | D5: 64 | E5: 4 | F5: 206
B6: Government estimate of new additions by 2023 | C6: 3 | D6: 33 | F6: 36
B7: Closure by 2025 | C7: -46 | F7: -46
B8: Operational in 2025 | C8: 95 | D8: 97 | E8: 4 | F8: 197
B9: Closure by 2030 | C9: -8 | F9: -8
B10: Operational in 2030 | C10: 87 | D10: 97 | E10: 4 | F10: 188 | G10: 267
B13: Sources: | C13: CEA's list of thermal plants
C14: Combustion technology data from Global Energy Monitor (GEM)
C15: Parliament note on plants under construction
C16: CEA's 13th Optimal Generation Capacity Mix Report

Sheet Figure-6
B1: Operational coal power capacity completing 25 years of operation
I2: Installed capacity (MW)
B4: Year | C4: Subcritical (GW) | D4: Supercritical (GW) | E4: Other (GW) | I4: Year of commencement | J4: IC (Total) | K4: Subcritical | L4: Supercritical | M4: Others | N4: Ultra-supercritical | O4: CFB | P4: Unknown
B5: 2020 | C5: =sum(K5:K32)/1000 -> 37.5685 | D5: =sum(L5:L32)/1000 -> 0 | E5: =sum(M5:M32)/1000 -> 0 | I5: 1963 | J5: 150 | K5: 150 | L5: 0 | M5: =N5+O5+P5 -> 0 | N5: 0 | O5: 0 | P5: 0
B6: 2020 - 2025 | C6: =sum(K33:K37)/1000 -> 7.975 | D6: =sum(L33:L37)/1000 -> 0 | E6: =sum(M33:M37)/1000 -> 0 | I6: 1964 | J6: 50 | K6: 50 | L6: 0 | M6: =N6+O6+P6 -> 0 | N6: 0 | O6: 0 | P6: 0
B7: 2025 - 2030 | C7: =sum(K38:K42)/1000 -> 8.155 | D7: =sum(L38:L42)/1000 -> 0 | E7: =sum(M38:M42)/1000 -> 0 | I7: 1965 | J7: 170 | K7: 170 | L7: 0 | M7: =N7+O7+P7 -> 0 | N7: 0 | O7: 0 | P7: 0
B8: 2030 - 2035 | C8: =sum(K43:K47)/1000 -> 25.175 | D8: =sum(L43:L47)/1000 -> 1.26 | E8: =sum(M43:M47)/1000 -> 0 | I8: 1967 | J8: 60 | K8: 60 | L8: 0 | M8: =N8+O8+P8 -> 0 | N8: 0 | O8: 0 | P8: 0
B9: 2035 - 2040 | C9: =sum(K48:K52)/1000 -> 45.429 | D9: =sum(L48:L52)/1000 -> 34.105 | E9: =sum(M48:M52)/1000 -> 1.1 | I9: 1968 | J9: 120 | K9: 120 | L9: 0 | M9: =N9+O9+P9 -> 0 | N9: 0 | O9: 0 | P9: 0
B10: 2040 - 2045 | C10: =sum(K53:K57)/1000 -> 13.315 | D10: =sum(L53:L57)/1000 -> 28.687 | E10: =sum(M53:M57)/1000 -> 3.185 | I10: 1969 | J10: 160 | K10: 160 | L10: 0 | M10: =N10+O10+P10 -> 0 | N10: 0 | O10: 0 | P10: 0
I11: 1971 | J11: 62.5 | K11: 62.5 | L11: 0 | M11: =N11+O11+P11 -> 0 | N11: 0 | O11: 0 | P11: 0
I12: 1974 | J12: 94 | K12: 94 | L12: 0 | M12: =N12+O12+P12 -> 0 | N12: 0 | O12: 0 | P12: 0
A13: Sources | B13: CEA's list of thermal plants | I13: 1976 | J13: 120 | K13: 120 | L13: 0 | M13: =N13+O13+P13 -> 0 | N13: 0 | O13: 0 | P13: 0
B14: Combustion technology data from Global Energy Monitor (GEM) | I14: 1977 | J14: 200 | K14: 200 | L14: 0 | M14: =N14+O14+P14 -> 0 | N14: 0 | O14: 0 | P14: 0
I15: 1978 | J15: 225 | K15: 225 | L15: 0 | M15: =N15+O15+P15 -> 0 | N15: 0 | O15: 0 | P15: 0
I16: 1979 | J16: 1430 | K16: 1430 | L16: 0 | M16: =N16+O16+P16 -> 0 | N16: 0 | O16: 0 | P16: 0
I17: 1980 | J17: 1040 | K17: 1040 | L17: 0 | M17: =N17+O17+P17 -> 0 | N17: 0 | O17: 0 | P17: 0
I18: 1981 | J18: 530 | K18: 530 | L18: 0 | M18: =N18+O18+P18 -> 0 | N18: 0 | O18: 0 | P18: 0
I19: 1982 | J19: 2030 | K19: 2030 | L19: 0 | M19: =N19+O19+P19 -> 0 | N19: 0 | O19: 0 | P19: 0
I20: 1983 | J20: 2335 | K20: 2335 | L20: 0 | M20: =N20+O20+P20 -> 0 | N20: 0 | O20: 0 | P20: 0
I21: 1984 | J21: 2431 | K21: 2431 | L21: 0 | M21: =N21+O21+P21 -> 0 | N21: 0 | O21: 0 | P21: 0
I22: 1985 | J22: 1435 | K22: 1435 | L22: 0 | M22: =N22+O22+P22 -> 0 | N22: 0 | O22: 0 | P22: 0
I23: 1986 | J23: 2480 | K23: 2480 | L23: 0 | M23: =N23+O23+P23 -> 0 | N23: 0 | O23: 0 | P23: 0
I24: 1987 | J24: 2460 | K24: 2460 | L24: 0 | M24: =N24+O24+P24 -> 0 | N24: 0 | O24: 0 | P24: 0
I25: 1988 | J25: 2991 | K25: 2991 | L25: 0 | M25: =N25+O25+P25 -> 0 | N25: 0 | O25: 0 | P25: 0
I26: 1989 | J26: 3790 | K26: 3790 | L26: 0 | M26: =N26+O26+P26 -> 0 | N26: 0 | O26: 0 | P26: 0
... I57: 2020 | J57: 1690 | K57: 0 | L57: 660 | M57: =N57+O57+P57 -> 1030 | N57: 660 | O57: 0 | P57: 370
I58: Total | J58: 205954.5 | K58: 137617.5 | L58: 64052 | M58: =N58+O58+P58 -> 4285 | N58: 1320 | O58: 1300 | P58: 1665

Sheet Calibrating IEA data to CEA
B1: Note | C1: IEA electricity generation data includes capactive generation, autoproduction and off-grid renewable electricity generation, whereas CEA electricity data provides only on-grid electricity generation
C2: To provide a comparison between IEA and CEA forecasts, a conversion factor was assumed based on historical data
B3: Forecasts
B4: Source | C4: IEA 2019 | D4: SDS 2025 | E4: SDS 2030 | F4: IVC 2030 | G4: IEA-CEA conversion factor | H4: 2019 | I4: SDS 2025 | J4: SDS 2030 | K4: IVC 2030
B5: Biomass and waste | C5: 42 | D5: 84 | E5: 105 | F5: 81 | G5: 0.36 | H5: =C5*0.36 -> 15.12 | I5: =D5*0.36 -> 30.24 | J5: =E5*0.36 -> 37.8 | K5: =F5*0.36 -> 29.16
B6: Coal | C6: 1132 | D6: 920 | E6: 708 | F6: 1099 | G6: 0.86 | H6: =C6*0.86 -> 973.52 | I6: =D6*0.86 -> 791.2 | J6: =E6*0.86 -> 608.88 | K6: =F6*0.86 -> 945.14
B7: Gas | C7: 72 | D7: 133 | E7: 240 | F7: 309 | G7: 0.7 | H7: =C7*0.7 -> 50.4 | I7: =D7*0.7 -> 93.1 | J7: =E7*0.7 -> 168 | K7: =F7*0.7 -> 216.3
B8: Hydro | C8: 174 | D8: 196 | E8: 258 | F8: 226 | G8: 0.95 | H8: =C8*0.95 -> 165.3 | I8: =D8*0.95 -> 186.2 | J8: =E8*0.95 -> 245.1 | K8: =F8*0.95 -> 214.7
B9: Nuclear | C9: 46 | D9: 61 | E9: 107 | F9: 109 | G9: 1 | H9: =C9 -> 46 | I9: =D9 -> 61 | J9: =E9 -> 107 | K9: =F9 -> 109
B10: Other fossil | C10: 8 | D10: 7 | E10: 7 | F10: 7 | G10: 1 | H10: =C10 -> 8 | I10: =D10 -> 7 | J10: =E10 -> 7 | K10: =F10 -> 7
B11: Other renewables | C11: 0 | D11: 2 | E11: 13 | G11: 1 | H11: =C11 -> 0 | I11: =D11 -> 2 | J11: =E11 -> 13 | K11: =F11
B12: Solar | C12: 51 | D12: 279 | E12: 584 | F12: 517 | G12: 0.93 | H12: =C12*0.93 -> 47.43 | I12: =D12*0.93 -> 259.47 | J12: =E12*0.93 -> 543.12 | K12: =F12*0.93 -> 480.81
B13: Wind | C13: 66 | D13: 186 | E13: 343 | F13: 251 | G13: 1 | H13: =C13 -> 66 | I13: =D13 -> 186 | J13: =E13 -> 343 | K13: =F13 -> 251
B14: Total generation | C14: =sum(C5:C13) -> 1591 | D14: =sum(D5:D13) -> 1868 | E14: =sum(E5:E13) -> 2365 | F14: =sum(F5:F13) -> 2599 | H14: =sum(H5:H13) -> 1371.77 | I14: =sum(I5:I13) -> 1616.21 | J14: =sum(J5:J13) -> 2072.9 | K14: =sum(K5:K13) -> 2253.11
C17: IEA to CEA conversion factor | D17: Based on
B18: Bioenergy and waste | C18: 0.36 | D18: Average of CEA/IEA value from 2016 to 2019
B19: Coal | C19: 0.86 | D19: Average of CEA/IEA value from 2016 to 2019
B20: Hydro | C20: 0.95 | D20: Average of CEA/IEA value from 2016 to 2019
B21: Gas | C21: 0.7 | D21: Average of CEA/IEA value from 2016 to 2019
B22: Nuclear | C22: 1 | D22: No captive gen
B23: Wind | C23: 1 | D23: No captive gen
B24: Others | C24: 1 | D24: No captive gen
B25: Solar | C25: 0.93 | D25: Recent CEA/IEA trend from 2018
